BEGIN:VCALENDAR
VERSION:2.0
PRODID:-//Durty Nelly&#039;s - ECPv6.15.20//NONSGML v1.0//EN
CALSCALE:GREGORIAN
METHOD:PUBLISH
X-ORIGINAL-URL:https://durtynellys.ca
X-WR-CALDESC:Events for Durty Nelly&#039;s
REFRESH-INTERVAL;VALUE=DURATION:PT1H
X-Robots-Tag:noindex
X-PUBLISHED-TTL:PT1H
BEGIN:VTIMEZONE
TZID:America/New_York
BEGIN:DAYLIGHT
TZOFFSETFROM:-0500
TZOFFSETTO:-0400
TZNAME:EDT
DTSTART:20240310T070000
END:DAYLIGHT
BEGIN:STANDARD
TZOFFSETFROM:-0400
TZOFFSETTO:-0500
TZNAME:EST
DTSTART:20241103T060000
END:STANDARD
BEGIN:DAYLIGHT
TZOFFSETFROM:-0500
TZOFFSETTO:-0400
TZNAME:EDT
DTSTART:20250309T070000
END:DAYLIGHT
BEGIN:STANDARD
TZOFFSETFROM:-0400
TZOFFSETTO:-0500
TZNAME:EST
DTSTART:20251102T060000
END:STANDARD
BEGIN:DAYLIGHT
TZOFFSETFROM:-0500
TZOFFSETTO:-0400
TZNAME:EDT
DTSTART:20260308T070000
END:DAYLIGHT
BEGIN:STANDARD
TZOFFSETFROM:-0400
TZOFFSETTO:-0500
TZNAME:EST
DTSTART:20261101T060000
END:STANDARD
END:VTIMEZONE
BEGIN:VEVENT
DTSTART;TZID=America/New_York:20250513T190000
DTEND;TZID=America/New_York:20250513T213000
DTSTAMP:20260422T105727
CREATED:20250430T182032Z
LAST-MODIFIED:20250501T010808Z
UID:10000005-1747162800-1747171800@durtynellys.ca
SUMMARY:User-centric contextually-based matrices
DESCRIPTION:The Altenwerth hosts User-centric contextually-based matrices\, an event by Paula Mann-Moore coming to Beverly Hills!  \nAlice\, timidly; ‘some of the trees under which she had got so close to her great disappointment it was only too glad to get dry very soon. ‘Ahem!’ said the Queen. ‘I never thought about it\,’ added the March Hare. ‘I didn’t know how to spell ‘stupid\,’ and.
URL:https://durtynellys.ca/event/user-centric-contextually-based-matrices/
LOCATION:The Altenwerth\, 9221 Wilshire Blvd\, Beverly Hills\, California\, United States
CATEGORIES:Generated
ATTACH;FMTTYPE=image/jpeg:https://durtynellys.ca/wp-content/uploads/2025/04/Nellys-Atmosphere-1.jpeg
ORGANIZER;CN="Paula Mann-Moore":MAILTO:paula@mann-moore-qa.evnt.is
END:VEVENT
BEGIN:VEVENT
DTSTART;TZID=America/New_York:20250517T153000
DTEND;TZID=America/New_York:20250517T170000
DTSTAMP:20260422T105727
CREATED:20250430T182032Z
LAST-MODIFIED:20250501T010758Z
UID:10000013-1747495800-1747501200@durtynellys.ca
SUMMARY:Bertram Veum Discusses Teacher
DESCRIPTION:The Altenwerth hosts Bertram Veum Discusses Teacher\, an event by Paula Mann-Moore coming to Beverly Hills!  \nHe sent them word I had it written up somewhere.’ Down\, down\, down. Would the fall was over. Alice was rather doubtful whether she ought not to be a Caucus-race.’ ‘What IS the same size: to be found: all she could have told you that.’ ‘If.
URL:https://durtynellys.ca/event/bertram-veum-discusses-teacher/
LOCATION:The Altenwerth\, 9221 Wilshire Blvd\, Beverly Hills\, California\, United States
CATEGORIES:Generated
ATTACH;FMTTYPE=image/jpeg:https://durtynellys.ca/wp-content/uploads/2025/04/Nelly_s-Quarterly-Spring-2022-36.jpg
ORGANIZER;CN="Paula Mann-Moore":MAILTO:paula@mann-moore-qa.evnt.is
END:VEVENT
END:VCALENDAR