BEGIN:VCALENDAR
VERSION:2.0
PRODID:-//Durty Nelly&#039;s - ECPv6.15.20//NONSGML v1.0//EN
CALSCALE:GREGORIAN
METHOD:PUBLISH
X-WR-CALNAME:Durty Nelly&#039;s
X-ORIGINAL-URL:https://durtynellys.ca
X-WR-CALDESC:Events for Durty Nelly&#039;s
REFRESH-INTERVAL;VALUE=DURATION:PT1H
X-Robots-Tag:noindex
X-PUBLISHED-TTL:PT1H
BEGIN:VTIMEZONE
TZID:America/New_York
BEGIN:DAYLIGHT
TZOFFSETFROM:-0500
TZOFFSETTO:-0400
TZNAME:EDT
DTSTART:20250309T070000
END:DAYLIGHT
BEGIN:STANDARD
TZOFFSETFROM:-0400
TZOFFSETTO:-0500
TZNAME:EST
DTSTART:20251102T060000
END:STANDARD
BEGIN:DAYLIGHT
TZOFFSETFROM:-0500
TZOFFSETTO:-0400
TZNAME:EDT
DTSTART:20260308T070000
END:DAYLIGHT
BEGIN:STANDARD
TZOFFSETFROM:-0400
TZOFFSETTO:-0500
TZNAME:EST
DTSTART:20261101T060000
END:STANDARD
BEGIN:DAYLIGHT
TZOFFSETFROM:-0500
TZOFFSETTO:-0400
TZNAME:EDT
DTSTART:20270314T070000
END:DAYLIGHT
BEGIN:STANDARD
TZOFFSETFROM:-0400
TZOFFSETTO:-0500
TZNAME:EST
DTSTART:20271107T060000
END:STANDARD
END:VTIMEZONE
BEGIN:VEVENT
DTSTART;TZID=America/New_York:20260427T220000
DTEND;TZID=America/New_York:20260428T010000
DTSTAMP:20260424T153923
CREATED:20250612T162833Z
LAST-MODIFIED:20250617T180228Z
UID:10000593-1777327200-1777338000@durtynellys.ca
SUMMARY:Jordan LeBlanc
DESCRIPTION:Hailing from Cape Breton Island\, Jordan moved to Halifax in 2008 to obtain his Guitar Degree at Dalhousie and pursue a career in music. \nNow a touring/studio session musician\, Jordan can be found travelling the country with some of Atlantic Canadas top country bands. You can also find him playing the hits at Durty Nellys every Monday night and select weekends with Brooklyn Blackmore. \nCome knock back a Michelob for Michelob Monday’s with Jordan\, at the best Craic on the east coast!
URL:https://durtynellys.ca/event/jordan-leblanc/2026-04-27/
LOCATION:Durty Nelly’s\, 1645 Argyle Street\, Halifax\, Nova Scotia\, Canada
CATEGORIES:Generated
ATTACH;FMTTYPE=image/jpeg:https://durtynellys.ca/wp-content/uploads/2025/04/DurtyNellys-20230616-20-scaled.jpg
END:VEVENT
BEGIN:VEVENT
DTSTART;TZID=America/New_York:20260430T190000
DTEND;TZID=America/New_York:20260430T220000
DTSTAMP:20260424T153923
CREATED:20250618T161252Z
LAST-MODIFIED:20250703T142258Z
UID:10002941-1777575600-1777586400@durtynellys.ca
SUMMARY:Joe & Adam
DESCRIPTION:
URL:https://durtynellys.ca/event/joe-adam/2026-04-30/
LOCATION:Durty Nelly’s\, 1645 Argyle Street\, Halifax\, Nova Scotia\, Canada
CATEGORIES:Generated
ATTACH;FMTTYPE=image/jpeg:https://durtynellys.ca/wp-content/uploads/2025/06/image0-e1751552571510.jpeg
END:VEVENT
BEGIN:VEVENT
DTSTART;TZID=America/New_York:20260504T220000
DTEND;TZID=America/New_York:20260505T010000
DTSTAMP:20260424T153923
CREATED:20250612T162833Z
LAST-MODIFIED:20250617T180228Z
UID:10000594-1777932000-1777942800@durtynellys.ca
SUMMARY:Jordan LeBlanc
DESCRIPTION:Hailing from Cape Breton Island\, Jordan moved to Halifax in 2008 to obtain his Guitar Degree at Dalhousie and pursue a career in music. \nNow a touring/studio session musician\, Jordan can be found travelling the country with some of Atlantic Canadas top country bands. You can also find him playing the hits at Durty Nellys every Monday night and select weekends with Brooklyn Blackmore. \nCome knock back a Michelob for Michelob Monday’s with Jordan\, at the best Craic on the east coast!
URL:https://durtynellys.ca/event/jordan-leblanc/2026-05-04/
LOCATION:Durty Nelly’s\, 1645 Argyle Street\, Halifax\, Nova Scotia\, Canada
CATEGORIES:Generated
ATTACH;FMTTYPE=image/jpeg:https://durtynellys.ca/wp-content/uploads/2025/04/DurtyNellys-20230616-20-scaled.jpg
END:VEVENT
BEGIN:VEVENT
DTSTART;TZID=America/New_York:20260507T190000
DTEND;TZID=America/New_York:20260507T220000
DTSTAMP:20260424T153923
CREATED:20250618T161252Z
LAST-MODIFIED:20250703T142258Z
UID:10002942-1778180400-1778191200@durtynellys.ca
SUMMARY:Joe & Adam
DESCRIPTION:
URL:https://durtynellys.ca/event/joe-adam/2026-05-07/
LOCATION:Durty Nelly’s\, 1645 Argyle Street\, Halifax\, Nova Scotia\, Canada
CATEGORIES:Generated
ATTACH;FMTTYPE=image/jpeg:https://durtynellys.ca/wp-content/uploads/2025/06/image0-e1751552571510.jpeg
END:VEVENT
BEGIN:VEVENT
DTSTART;TZID=America/New_York:20260511T220000
DTEND;TZID=America/New_York:20260512T010000
DTSTAMP:20260424T153923
CREATED:20250612T162833Z
LAST-MODIFIED:20250617T180228Z
UID:10000595-1778536800-1778547600@durtynellys.ca
SUMMARY:Jordan LeBlanc
DESCRIPTION:Hailing from Cape Breton Island\, Jordan moved to Halifax in 2008 to obtain his Guitar Degree at Dalhousie and pursue a career in music. \nNow a touring/studio session musician\, Jordan can be found travelling the country with some of Atlantic Canadas top country bands. You can also find him playing the hits at Durty Nellys every Monday night and select weekends with Brooklyn Blackmore. \nCome knock back a Michelob for Michelob Monday’s with Jordan\, at the best Craic on the east coast!
URL:https://durtynellys.ca/event/jordan-leblanc/2026-05-11/
LOCATION:Durty Nelly’s\, 1645 Argyle Street\, Halifax\, Nova Scotia\, Canada
CATEGORIES:Generated
ATTACH;FMTTYPE=image/jpeg:https://durtynellys.ca/wp-content/uploads/2025/04/DurtyNellys-20230616-20-scaled.jpg
END:VEVENT
BEGIN:VEVENT
DTSTART;TZID=America/New_York:20260514T190000
DTEND;TZID=America/New_York:20260514T220000
DTSTAMP:20260424T153923
CREATED:20250618T161252Z
LAST-MODIFIED:20250703T142258Z
UID:10002943-1778785200-1778796000@durtynellys.ca
SUMMARY:Joe & Adam
DESCRIPTION:
URL:https://durtynellys.ca/event/joe-adam/2026-05-14/
LOCATION:Durty Nelly’s\, 1645 Argyle Street\, Halifax\, Nova Scotia\, Canada
CATEGORIES:Generated
ATTACH;FMTTYPE=image/jpeg:https://durtynellys.ca/wp-content/uploads/2025/06/image0-e1751552571510.jpeg
END:VEVENT
BEGIN:VEVENT
DTSTART;TZID=America/New_York:20260518T220000
DTEND;TZID=America/New_York:20260519T010000
DTSTAMP:20260424T153923
CREATED:20250612T162833Z
LAST-MODIFIED:20250617T180228Z
UID:10000596-1779141600-1779152400@durtynellys.ca
SUMMARY:Jordan LeBlanc
DESCRIPTION:Hailing from Cape Breton Island\, Jordan moved to Halifax in 2008 to obtain his Guitar Degree at Dalhousie and pursue a career in music. \nNow a touring/studio session musician\, Jordan can be found travelling the country with some of Atlantic Canadas top country bands. You can also find him playing the hits at Durty Nellys every Monday night and select weekends with Brooklyn Blackmore. \nCome knock back a Michelob for Michelob Monday’s with Jordan\, at the best Craic on the east coast!
URL:https://durtynellys.ca/event/jordan-leblanc/2026-05-18/
LOCATION:Durty Nelly’s\, 1645 Argyle Street\, Halifax\, Nova Scotia\, Canada
CATEGORIES:Generated
ATTACH;FMTTYPE=image/jpeg:https://durtynellys.ca/wp-content/uploads/2025/04/DurtyNellys-20230616-20-scaled.jpg
END:VEVENT
BEGIN:VEVENT
DTSTART;TZID=America/New_York:20260521T190000
DTEND;TZID=America/New_York:20260521T220000
DTSTAMP:20260424T153923
CREATED:20250618T161252Z
LAST-MODIFIED:20250703T142258Z
UID:10002944-1779390000-1779400800@durtynellys.ca
SUMMARY:Joe & Adam
DESCRIPTION:
URL:https://durtynellys.ca/event/joe-adam/2026-05-21/
LOCATION:Durty Nelly’s\, 1645 Argyle Street\, Halifax\, Nova Scotia\, Canada
CATEGORIES:Generated
ATTACH;FMTTYPE=image/jpeg:https://durtynellys.ca/wp-content/uploads/2025/06/image0-e1751552571510.jpeg
END:VEVENT
BEGIN:VEVENT
DTSTART;TZID=America/New_York:20260525T220000
DTEND;TZID=America/New_York:20260526T010000
DTSTAMP:20260424T153923
CREATED:20250612T162833Z
LAST-MODIFIED:20250617T180228Z
UID:10000597-1779746400-1779757200@durtynellys.ca
SUMMARY:Jordan LeBlanc
DESCRIPTION:Hailing from Cape Breton Island\, Jordan moved to Halifax in 2008 to obtain his Guitar Degree at Dalhousie and pursue a career in music. \nNow a touring/studio session musician\, Jordan can be found travelling the country with some of Atlantic Canadas top country bands. You can also find him playing the hits at Durty Nellys every Monday night and select weekends with Brooklyn Blackmore. \nCome knock back a Michelob for Michelob Monday’s with Jordan\, at the best Craic on the east coast!
URL:https://durtynellys.ca/event/jordan-leblanc/2026-05-25/
LOCATION:Durty Nelly’s\, 1645 Argyle Street\, Halifax\, Nova Scotia\, Canada
CATEGORIES:Generated
ATTACH;FMTTYPE=image/jpeg:https://durtynellys.ca/wp-content/uploads/2025/04/DurtyNellys-20230616-20-scaled.jpg
END:VEVENT
BEGIN:VEVENT
DTSTART;TZID=America/New_York:20260528T190000
DTEND;TZID=America/New_York:20260528T220000
DTSTAMP:20260424T153923
CREATED:20250618T161252Z
LAST-MODIFIED:20250703T142258Z
UID:10002945-1779994800-1780005600@durtynellys.ca
SUMMARY:Joe & Adam
DESCRIPTION:
URL:https://durtynellys.ca/event/joe-adam/2026-05-28/
LOCATION:Durty Nelly’s\, 1645 Argyle Street\, Halifax\, Nova Scotia\, Canada
CATEGORIES:Generated
ATTACH;FMTTYPE=image/jpeg:https://durtynellys.ca/wp-content/uploads/2025/06/image0-e1751552571510.jpeg
END:VEVENT
BEGIN:VEVENT
DTSTART;TZID=America/New_York:20260601T220000
DTEND;TZID=America/New_York:20260602T010000
DTSTAMP:20260424T153923
CREATED:20250612T162833Z
LAST-MODIFIED:20250617T180228Z
UID:10000598-1780351200-1780362000@durtynellys.ca
SUMMARY:Jordan LeBlanc
DESCRIPTION:Hailing from Cape Breton Island\, Jordan moved to Halifax in 2008 to obtain his Guitar Degree at Dalhousie and pursue a career in music. \nNow a touring/studio session musician\, Jordan can be found travelling the country with some of Atlantic Canadas top country bands. You can also find him playing the hits at Durty Nellys every Monday night and select weekends with Brooklyn Blackmore. \nCome knock back a Michelob for Michelob Monday’s with Jordan\, at the best Craic on the east coast!
URL:https://durtynellys.ca/event/jordan-leblanc/2026-06-01/
LOCATION:Durty Nelly’s\, 1645 Argyle Street\, Halifax\, Nova Scotia\, Canada
CATEGORIES:Generated
ATTACH;FMTTYPE=image/jpeg:https://durtynellys.ca/wp-content/uploads/2025/04/DurtyNellys-20230616-20-scaled.jpg
END:VEVENT
BEGIN:VEVENT
DTSTART;TZID=America/New_York:20260604T190000
DTEND;TZID=America/New_York:20260604T220000
DTSTAMP:20260424T153923
CREATED:20250618T161252Z
LAST-MODIFIED:20250703T142258Z
UID:10002946-1780599600-1780610400@durtynellys.ca
SUMMARY:Joe & Adam
DESCRIPTION:
URL:https://durtynellys.ca/event/joe-adam/2026-06-04/
LOCATION:Durty Nelly’s\, 1645 Argyle Street\, Halifax\, Nova Scotia\, Canada
CATEGORIES:Generated
ATTACH;FMTTYPE=image/jpeg:https://durtynellys.ca/wp-content/uploads/2025/06/image0-e1751552571510.jpeg
END:VEVENT
BEGIN:VEVENT
DTSTART;TZID=America/New_York:20260608T220000
DTEND;TZID=America/New_York:20260609T010000
DTSTAMP:20260424T153923
CREATED:20250612T162833Z
LAST-MODIFIED:20250617T180228Z
UID:10000599-1780956000-1780966800@durtynellys.ca
SUMMARY:Jordan LeBlanc
DESCRIPTION:Hailing from Cape Breton Island\, Jordan moved to Halifax in 2008 to obtain his Guitar Degree at Dalhousie and pursue a career in music. \nNow a touring/studio session musician\, Jordan can be found travelling the country with some of Atlantic Canadas top country bands. You can also find him playing the hits at Durty Nellys every Monday night and select weekends with Brooklyn Blackmore. \nCome knock back a Michelob for Michelob Monday’s with Jordan\, at the best Craic on the east coast!
URL:https://durtynellys.ca/event/jordan-leblanc/2026-06-08/
LOCATION:Durty Nelly’s\, 1645 Argyle Street\, Halifax\, Nova Scotia\, Canada
CATEGORIES:Generated
ATTACH;FMTTYPE=image/jpeg:https://durtynellys.ca/wp-content/uploads/2025/04/DurtyNellys-20230616-20-scaled.jpg
END:VEVENT
BEGIN:VEVENT
DTSTART;TZID=America/New_York:20260611T190000
DTEND;TZID=America/New_York:20260611T220000
DTSTAMP:20260424T153923
CREATED:20250618T161252Z
LAST-MODIFIED:20250703T142258Z
UID:10002947-1781204400-1781215200@durtynellys.ca
SUMMARY:Joe & Adam
DESCRIPTION:
URL:https://durtynellys.ca/event/joe-adam/2026-06-11/
LOCATION:Durty Nelly’s\, 1645 Argyle Street\, Halifax\, Nova Scotia\, Canada
CATEGORIES:Generated
ATTACH;FMTTYPE=image/jpeg:https://durtynellys.ca/wp-content/uploads/2025/06/image0-e1751552571510.jpeg
END:VEVENT
BEGIN:VEVENT
DTSTART;TZID=America/New_York:20260615T220000
DTEND;TZID=America/New_York:20260616T010000
DTSTAMP:20260424T153923
CREATED:20250612T162833Z
LAST-MODIFIED:20250617T180228Z
UID:10000600-1781560800-1781571600@durtynellys.ca
SUMMARY:Jordan LeBlanc
DESCRIPTION:Hailing from Cape Breton Island\, Jordan moved to Halifax in 2008 to obtain his Guitar Degree at Dalhousie and pursue a career in music. \nNow a touring/studio session musician\, Jordan can be found travelling the country with some of Atlantic Canadas top country bands. You can also find him playing the hits at Durty Nellys every Monday night and select weekends with Brooklyn Blackmore. \nCome knock back a Michelob for Michelob Monday’s with Jordan\, at the best Craic on the east coast!
URL:https://durtynellys.ca/event/jordan-leblanc/2026-06-15/
LOCATION:Durty Nelly’s\, 1645 Argyle Street\, Halifax\, Nova Scotia\, Canada
CATEGORIES:Generated
ATTACH;FMTTYPE=image/jpeg:https://durtynellys.ca/wp-content/uploads/2025/04/DurtyNellys-20230616-20-scaled.jpg
END:VEVENT
BEGIN:VEVENT
DTSTART;TZID=America/New_York:20260618T190000
DTEND;TZID=America/New_York:20260618T220000
DTSTAMP:20260424T153923
CREATED:20250618T161252Z
LAST-MODIFIED:20250703T142258Z
UID:10002948-1781809200-1781820000@durtynellys.ca
SUMMARY:Joe & Adam
DESCRIPTION:
URL:https://durtynellys.ca/event/joe-adam/2026-06-18/
LOCATION:Durty Nelly’s\, 1645 Argyle Street\, Halifax\, Nova Scotia\, Canada
CATEGORIES:Generated
ATTACH;FMTTYPE=image/jpeg:https://durtynellys.ca/wp-content/uploads/2025/06/image0-e1751552571510.jpeg
END:VEVENT
BEGIN:VEVENT
DTSTART;TZID=America/New_York:20260622T220000
DTEND;TZID=America/New_York:20260623T010000
DTSTAMP:20260424T153923
CREATED:20250612T162833Z
LAST-MODIFIED:20250617T180228Z
UID:10000601-1782165600-1782176400@durtynellys.ca
SUMMARY:Jordan LeBlanc
DESCRIPTION:Hailing from Cape Breton Island\, Jordan moved to Halifax in 2008 to obtain his Guitar Degree at Dalhousie and pursue a career in music. \nNow a touring/studio session musician\, Jordan can be found travelling the country with some of Atlantic Canadas top country bands. You can also find him playing the hits at Durty Nellys every Monday night and select weekends with Brooklyn Blackmore. \nCome knock back a Michelob for Michelob Monday’s with Jordan\, at the best Craic on the east coast!
URL:https://durtynellys.ca/event/jordan-leblanc/2026-06-22/
LOCATION:Durty Nelly’s\, 1645 Argyle Street\, Halifax\, Nova Scotia\, Canada
CATEGORIES:Generated
ATTACH;FMTTYPE=image/jpeg:https://durtynellys.ca/wp-content/uploads/2025/04/DurtyNellys-20230616-20-scaled.jpg
END:VEVENT
BEGIN:VEVENT
DTSTART;TZID=America/New_York:20260625T190000
DTEND;TZID=America/New_York:20260625T220000
DTSTAMP:20260424T153923
CREATED:20250618T161252Z
LAST-MODIFIED:20250703T142258Z
UID:10002949-1782414000-1782424800@durtynellys.ca
SUMMARY:Joe & Adam
DESCRIPTION:
URL:https://durtynellys.ca/event/joe-adam/2026-06-25/
LOCATION:Durty Nelly’s\, 1645 Argyle Street\, Halifax\, Nova Scotia\, Canada
CATEGORIES:Generated
ATTACH;FMTTYPE=image/jpeg:https://durtynellys.ca/wp-content/uploads/2025/06/image0-e1751552571510.jpeg
END:VEVENT
BEGIN:VEVENT
DTSTART;TZID=America/New_York:20260629T220000
DTEND;TZID=America/New_York:20260630T010000
DTSTAMP:20260424T153923
CREATED:20250612T162833Z
LAST-MODIFIED:20250617T180228Z
UID:10000602-1782770400-1782781200@durtynellys.ca
SUMMARY:Jordan LeBlanc
DESCRIPTION:Hailing from Cape Breton Island\, Jordan moved to Halifax in 2008 to obtain his Guitar Degree at Dalhousie and pursue a career in music. \nNow a touring/studio session musician\, Jordan can be found travelling the country with some of Atlantic Canadas top country bands. You can also find him playing the hits at Durty Nellys every Monday night and select weekends with Brooklyn Blackmore. \nCome knock back a Michelob for Michelob Monday’s with Jordan\, at the best Craic on the east coast!
URL:https://durtynellys.ca/event/jordan-leblanc/2026-06-29/
LOCATION:Durty Nelly’s\, 1645 Argyle Street\, Halifax\, Nova Scotia\, Canada
CATEGORIES:Generated
ATTACH;FMTTYPE=image/jpeg:https://durtynellys.ca/wp-content/uploads/2025/04/DurtyNellys-20230616-20-scaled.jpg
END:VEVENT
BEGIN:VEVENT
DTSTART;TZID=America/New_York:20260702T190000
DTEND;TZID=America/New_York:20260702T220000
DTSTAMP:20260424T153923
CREATED:20250618T161252Z
LAST-MODIFIED:20250703T142258Z
UID:10002950-1783018800-1783029600@durtynellys.ca
SUMMARY:Joe & Adam
DESCRIPTION:
URL:https://durtynellys.ca/event/joe-adam/2026-07-02/
LOCATION:Durty Nelly’s\, 1645 Argyle Street\, Halifax\, Nova Scotia\, Canada
CATEGORIES:Generated
ATTACH;FMTTYPE=image/jpeg:https://durtynellys.ca/wp-content/uploads/2025/06/image0-e1751552571510.jpeg
END:VEVENT
BEGIN:VEVENT
DTSTART;TZID=America/New_York:20260706T220000
DTEND;TZID=America/New_York:20260707T010000
DTSTAMP:20260424T153923
CREATED:20250612T162833Z
LAST-MODIFIED:20250617T180228Z
UID:10000603-1783375200-1783386000@durtynellys.ca
SUMMARY:Jordan LeBlanc
DESCRIPTION:Hailing from Cape Breton Island\, Jordan moved to Halifax in 2008 to obtain his Guitar Degree at Dalhousie and pursue a career in music. \nNow a touring/studio session musician\, Jordan can be found travelling the country with some of Atlantic Canadas top country bands. You can also find him playing the hits at Durty Nellys every Monday night and select weekends with Brooklyn Blackmore. \nCome knock back a Michelob for Michelob Monday’s with Jordan\, at the best Craic on the east coast!
URL:https://durtynellys.ca/event/jordan-leblanc/2026-07-06/
LOCATION:Durty Nelly’s\, 1645 Argyle Street\, Halifax\, Nova Scotia\, Canada
CATEGORIES:Generated
ATTACH;FMTTYPE=image/jpeg:https://durtynellys.ca/wp-content/uploads/2025/04/DurtyNellys-20230616-20-scaled.jpg
END:VEVENT
BEGIN:VEVENT
DTSTART;TZID=America/New_York:20260709T190000
DTEND;TZID=America/New_York:20260709T220000
DTSTAMP:20260424T153923
CREATED:20250618T161252Z
LAST-MODIFIED:20250703T142258Z
UID:10002951-1783623600-1783634400@durtynellys.ca
SUMMARY:Joe & Adam
DESCRIPTION:
URL:https://durtynellys.ca/event/joe-adam/2026-07-09/
LOCATION:Durty Nelly’s\, 1645 Argyle Street\, Halifax\, Nova Scotia\, Canada
CATEGORIES:Generated
ATTACH;FMTTYPE=image/jpeg:https://durtynellys.ca/wp-content/uploads/2025/06/image0-e1751552571510.jpeg
END:VEVENT
BEGIN:VEVENT
DTSTART;TZID=America/New_York:20260713T220000
DTEND;TZID=America/New_York:20260714T010000
DTSTAMP:20260424T153923
CREATED:20250612T162833Z
LAST-MODIFIED:20250617T180228Z
UID:10000604-1783980000-1783990800@durtynellys.ca
SUMMARY:Jordan LeBlanc
DESCRIPTION:Hailing from Cape Breton Island\, Jordan moved to Halifax in 2008 to obtain his Guitar Degree at Dalhousie and pursue a career in music. \nNow a touring/studio session musician\, Jordan can be found travelling the country with some of Atlantic Canadas top country bands. You can also find him playing the hits at Durty Nellys every Monday night and select weekends with Brooklyn Blackmore. \nCome knock back a Michelob for Michelob Monday’s with Jordan\, at the best Craic on the east coast!
URL:https://durtynellys.ca/event/jordan-leblanc/2026-07-13/
LOCATION:Durty Nelly’s\, 1645 Argyle Street\, Halifax\, Nova Scotia\, Canada
CATEGORIES:Generated
ATTACH;FMTTYPE=image/jpeg:https://durtynellys.ca/wp-content/uploads/2025/04/DurtyNellys-20230616-20-scaled.jpg
END:VEVENT
BEGIN:VEVENT
DTSTART;TZID=America/New_York:20260716T190000
DTEND;TZID=America/New_York:20260716T220000
DTSTAMP:20260424T153923
CREATED:20250618T161252Z
LAST-MODIFIED:20250703T142258Z
UID:10002952-1784228400-1784239200@durtynellys.ca
SUMMARY:Joe & Adam
DESCRIPTION:
URL:https://durtynellys.ca/event/joe-adam/2026-07-16/
LOCATION:Durty Nelly’s\, 1645 Argyle Street\, Halifax\, Nova Scotia\, Canada
CATEGORIES:Generated
ATTACH;FMTTYPE=image/jpeg:https://durtynellys.ca/wp-content/uploads/2025/06/image0-e1751552571510.jpeg
END:VEVENT
BEGIN:VEVENT
DTSTART;TZID=America/New_York:20260720T220000
DTEND;TZID=America/New_York:20260721T010000
DTSTAMP:20260424T153923
CREATED:20250612T162833Z
LAST-MODIFIED:20250617T180228Z
UID:10000605-1784584800-1784595600@durtynellys.ca
SUMMARY:Jordan LeBlanc
DESCRIPTION:Hailing from Cape Breton Island\, Jordan moved to Halifax in 2008 to obtain his Guitar Degree at Dalhousie and pursue a career in music. \nNow a touring/studio session musician\, Jordan can be found travelling the country with some of Atlantic Canadas top country bands. You can also find him playing the hits at Durty Nellys every Monday night and select weekends with Brooklyn Blackmore. \nCome knock back a Michelob for Michelob Monday’s with Jordan\, at the best Craic on the east coast!
URL:https://durtynellys.ca/event/jordan-leblanc/2026-07-20/
LOCATION:Durty Nelly’s\, 1645 Argyle Street\, Halifax\, Nova Scotia\, Canada
CATEGORIES:Generated
ATTACH;FMTTYPE=image/jpeg:https://durtynellys.ca/wp-content/uploads/2025/04/DurtyNellys-20230616-20-scaled.jpg
END:VEVENT
BEGIN:VEVENT
DTSTART;TZID=America/New_York:20260723T190000
DTEND;TZID=America/New_York:20260723T220000
DTSTAMP:20260424T153923
CREATED:20250618T161252Z
LAST-MODIFIED:20250703T142258Z
UID:10002953-1784833200-1784844000@durtynellys.ca
SUMMARY:Joe & Adam
DESCRIPTION:
URL:https://durtynellys.ca/event/joe-adam/2026-07-23/
LOCATION:Durty Nelly’s\, 1645 Argyle Street\, Halifax\, Nova Scotia\, Canada
CATEGORIES:Generated
ATTACH;FMTTYPE=image/jpeg:https://durtynellys.ca/wp-content/uploads/2025/06/image0-e1751552571510.jpeg
END:VEVENT
BEGIN:VEVENT
DTSTART;TZID=America/New_York:20260727T220000
DTEND;TZID=America/New_York:20260728T010000
DTSTAMP:20260424T153923
CREATED:20250612T162833Z
LAST-MODIFIED:20250617T180228Z
UID:10000606-1785189600-1785200400@durtynellys.ca
SUMMARY:Jordan LeBlanc
DESCRIPTION:Hailing from Cape Breton Island\, Jordan moved to Halifax in 2008 to obtain his Guitar Degree at Dalhousie and pursue a career in music. \nNow a touring/studio session musician\, Jordan can be found travelling the country with some of Atlantic Canadas top country bands. You can also find him playing the hits at Durty Nellys every Monday night and select weekends with Brooklyn Blackmore. \nCome knock back a Michelob for Michelob Monday’s with Jordan\, at the best Craic on the east coast!
URL:https://durtynellys.ca/event/jordan-leblanc/2026-07-27/
LOCATION:Durty Nelly’s\, 1645 Argyle Street\, Halifax\, Nova Scotia\, Canada
CATEGORIES:Generated
ATTACH;FMTTYPE=image/jpeg:https://durtynellys.ca/wp-content/uploads/2025/04/DurtyNellys-20230616-20-scaled.jpg
END:VEVENT
BEGIN:VEVENT
DTSTART;TZID=America/New_York:20260730T190000
DTEND;TZID=America/New_York:20260730T220000
DTSTAMP:20260424T153923
CREATED:20250618T161252Z
LAST-MODIFIED:20250703T142258Z
UID:10002954-1785438000-1785448800@durtynellys.ca
SUMMARY:Joe & Adam
DESCRIPTION:
URL:https://durtynellys.ca/event/joe-adam/2026-07-30/
LOCATION:Durty Nelly’s\, 1645 Argyle Street\, Halifax\, Nova Scotia\, Canada
CATEGORIES:Generated
ATTACH;FMTTYPE=image/jpeg:https://durtynellys.ca/wp-content/uploads/2025/06/image0-e1751552571510.jpeg
END:VEVENT
BEGIN:VEVENT
DTSTART;TZID=America/New_York:20260803T220000
DTEND;TZID=America/New_York:20260804T010000
DTSTAMP:20260424T153923
CREATED:20250612T162833Z
LAST-MODIFIED:20250617T180228Z
UID:10000607-1785794400-1785805200@durtynellys.ca
SUMMARY:Jordan LeBlanc
DESCRIPTION:Hailing from Cape Breton Island\, Jordan moved to Halifax in 2008 to obtain his Guitar Degree at Dalhousie and pursue a career in music. \nNow a touring/studio session musician\, Jordan can be found travelling the country with some of Atlantic Canadas top country bands. You can also find him playing the hits at Durty Nellys every Monday night and select weekends with Brooklyn Blackmore. \nCome knock back a Michelob for Michelob Monday’s with Jordan\, at the best Craic on the east coast!
URL:https://durtynellys.ca/event/jordan-leblanc/2026-08-03/
LOCATION:Durty Nelly’s\, 1645 Argyle Street\, Halifax\, Nova Scotia\, Canada
CATEGORIES:Generated
ATTACH;FMTTYPE=image/jpeg:https://durtynellys.ca/wp-content/uploads/2025/04/DurtyNellys-20230616-20-scaled.jpg
END:VEVENT
BEGIN:VEVENT
DTSTART;TZID=America/New_York:20260806T190000
DTEND;TZID=America/New_York:20260806T220000
DTSTAMP:20260424T153923
CREATED:20250618T161252Z
LAST-MODIFIED:20250703T142258Z
UID:10002955-1786042800-1786053600@durtynellys.ca
SUMMARY:Joe & Adam
DESCRIPTION:
URL:https://durtynellys.ca/event/joe-adam/2026-08-06/
LOCATION:Durty Nelly’s\, 1645 Argyle Street\, Halifax\, Nova Scotia\, Canada
CATEGORIES:Generated
ATTACH;FMTTYPE=image/jpeg:https://durtynellys.ca/wp-content/uploads/2025/06/image0-e1751552571510.jpeg
END:VEVENT
END:VCALENDAR